BEGIN:VCALENDAR
VERSION:2.0
PRODID:-//Biebricher Gewerbeverein - ECPv6.15.20//NONSGML v1.0//EN
CALSCALE:GREGORIAN
METHOD:PUBLISH
X-ORIGINAL-URL:https://www.biebricher-gewerbeverein.de
X-WR-CALDESC:Veranstaltungen für Biebricher Gewerbeverein
REFRESH-INTERVAL;VALUE=DURATION:PT1H
X-Robots-Tag:noindex
X-PUBLISHED-TTL:PT1H
BEGIN:VTIMEZONE
TZID:Europe/Berlin
BEGIN:DAYLIGHT
TZOFFSETFROM:+0100
TZOFFSETTO:+0200
TZNAME:CEST
DTSTART:20240331T010000
END:DAYLIGHT
BEGIN:STANDARD
TZOFFSETFROM:+0200
TZOFFSETTO:+0100
TZNAME:CET
DTSTART:20241027T010000
END:STANDARD
BEGIN:DAYLIGHT
TZOFFSETFROM:+0100
TZOFFSETTO:+0200
TZNAME:CEST
DTSTART:20250330T010000
END:DAYLIGHT
BEGIN:STANDARD
TZOFFSETFROM:+0200
TZOFFSETTO:+0100
TZNAME:CET
DTSTART:20251026T010000
END:STANDARD
BEGIN:DAYLIGHT
TZOFFSETFROM:+0100
TZOFFSETTO:+0200
TZNAME:CEST
DTSTART:20260329T010000
END:DAYLIGHT
BEGIN:STANDARD
TZOFFSETFROM:+0200
TZOFFSETTO:+0100
TZNAME:CET
DTSTART:20261025T010000
END:STANDARD
END:VTIMEZONE
BEGIN:VEVENT
DTSTART;TZID=Europe/Berlin:20250119T140000
DTEND;TZID=Europe/Berlin:20250119T220000
DTSTAMP:20260425T012702
CREATED:20241125T152456Z
LAST-MODIFIED:20250116T095726Z
UID:2046-1737295200-1737324000@www.biebricher-gewerbeverein.de
SUMMARY:Live-Musik von “Just for You“ mit Manfred Kaiser und Hristo Kralev
DESCRIPTION:Live-Musik von “Just for You“ mit Manfred Kaiser und Hristo Kralev \n  \n  \n 
URL:https://www.biebricher-gewerbeverein.de/event/live-musik-von-just-for-you-mit-manfred-kaiser-und-hristo-kralev/
END:VEVENT
END:VCALENDAR