BEGIN:VCALENDAR
VERSION:2.0
PRODID:-//Biebricher Gewerbeverein - ECPv6.15.20//NONSGML v1.0//EN
CALSCALE:GREGORIAN
METHOD:PUBLISH
X-ORIGINAL-URL:https://www.biebricher-gewerbeverein.de
X-WR-CALDESC:Veranstaltungen für Biebricher Gewerbeverein
REFRESH-INTERVAL;VALUE=DURATION:PT1H
X-Robots-Tag:noindex
X-PUBLISHED-TTL:PT1H
BEGIN:VTIMEZONE
TZID:Europe/Berlin
BEGIN:DAYLIGHT
TZOFFSETFROM:+0100
TZOFFSETTO:+0200
TZNAME:CEST
DTSTART:20240331T010000
END:DAYLIGHT
BEGIN:STANDARD
TZOFFSETFROM:+0200
TZOFFSETTO:+0100
TZNAME:CET
DTSTART:20241027T010000
END:STANDARD
BEGIN:DAYLIGHT
TZOFFSETFROM:+0100
TZOFFSETTO:+0200
TZNAME:CEST
DTSTART:20250330T010000
END:DAYLIGHT
BEGIN:STANDARD
TZOFFSETFROM:+0200
TZOFFSETTO:+0100
TZNAME:CET
DTSTART:20251026T010000
END:STANDARD
BEGIN:DAYLIGHT
TZOFFSETFROM:+0100
TZOFFSETTO:+0200
TZNAME:CEST
DTSTART:20260329T010000
END:DAYLIGHT
BEGIN:STANDARD
TZOFFSETFROM:+0200
TZOFFSETTO:+0100
TZNAME:CET
DTSTART:20261025T010000
END:STANDARD
END:VTIMEZONE
BEGIN:VEVENT
DTSTART;VALUE=DATE:20251018
DTEND;VALUE=DATE:20251020
DTSTAMP:20260424T055032
CREATED:20241119T110517Z
LAST-MODIFIED:20241119T110517Z
UID:2037-1760745600-1760918399@www.biebricher-gewerbeverein.de
SUMMARY:Biebricher Herbsttage - Verkaufsoffener Sonntag und Heimatshoppen
DESCRIPTION:Weitere Informationen folgen. \n 
URL:https://www.biebricher-gewerbeverein.de/event/biebricher-herbsttage-verkaufsoffener-sonntag-und-heimatshoppen/
LOCATION:Stadtteil Biebrich\, Rathausstraße 76\, Wiesbaden\, Hessen\, 65203\, Deutschland
END:VEVENT
END:VCALENDAR