BEGIN:VCALENDAR
VERSION:2.0
PRODID:-//Biebricher Gewerbeverein - ECPv6.15.20//NONSGML v1.0//EN
CALSCALE:GREGORIAN
METHOD:PUBLISH
X-WR-CALNAME:Biebricher Gewerbeverein
X-ORIGINAL-URL:https://www.biebricher-gewerbeverein.de
X-WR-CALDESC:Veranstaltungen für Biebricher Gewerbeverein
REFRESH-INTERVAL;VALUE=DURATION:PT1H
X-Robots-Tag:noindex
X-PUBLISHED-TTL:PT1H
BEGIN:VTIMEZONE
TZID:Europe/Berlin
BEGIN:DAYLIGHT
TZOFFSETFROM:+0100
TZOFFSETTO:+0200
TZNAME:CEST
DTSTART:20250330T010000
END:DAYLIGHT
BEGIN:STANDARD
TZOFFSETFROM:+0200
TZOFFSETTO:+0100
TZNAME:CET
DTSTART:20251026T010000
END:STANDARD
BEGIN:DAYLIGHT
TZOFFSETFROM:+0100
TZOFFSETTO:+0200
TZNAME:CEST
DTSTART:20260329T010000
END:DAYLIGHT
BEGIN:STANDARD
TZOFFSETFROM:+0200
TZOFFSETTO:+0100
TZNAME:CET
DTSTART:20261025T010000
END:STANDARD
BEGIN:DAYLIGHT
TZOFFSETFROM:+0100
TZOFFSETTO:+0200
TZNAME:CEST
DTSTART:20270328T010000
END:DAYLIGHT
BEGIN:STANDARD
TZOFFSETFROM:+0200
TZOFFSETTO:+0100
TZNAME:CET
DTSTART:20271031T010000
END:STANDARD
END:VTIMEZONE
BEGIN:VEVENT
DTSTART;TZID=Europe/Berlin:20260423T170000
DTEND;TZID=Europe/Berlin:20260427T230000
DTSTAMP:20260423T030349
CREATED:20260303T101522Z
LAST-MODIFIED:20260303T101741Z
UID:2634-1776963600-1777330800@www.biebricher-gewerbeverein.de
SUMMARY:Antrinken Weinstand 2026
DESCRIPTION:Live-Musik ab 18:00 Uhr. \nDie offizielle Begrüßung findet um 19:00 Uhr statt. \nWir Schenken mit unseren Mitgliedern bis Montag\, den 27.4.2026 aus und werden bis Sonntag Live-Musik bieten.
URL:https://www.biebricher-gewerbeverein.de/event/antrinken-weinstand-2026/
END:VEVENT
END:VCALENDAR