BEGIN:VCALENDAR
VERSION:2.0
PRODID:-//Biebricher Gewerbeverein - ECPv6.15.20//NONSGML v1.0//EN
CALSCALE:GREGORIAN
METHOD:PUBLISH
X-WR-CALNAME:Biebricher Gewerbeverein
X-ORIGINAL-URL:https://www.biebricher-gewerbeverein.de
X-WR-CALDESC:Veranstaltungen für Biebricher Gewerbeverein
REFRESH-INTERVAL;VALUE=DURATION:PT1H
X-Robots-Tag:noindex
X-PUBLISHED-TTL:PT1H
BEGIN:VTIMEZONE
TZID:Europe/Berlin
BEGIN:DAYLIGHT
TZOFFSETFROM:+0100
TZOFFSETTO:+0200
TZNAME:CEST
DTSTART:20250330T010000
END:DAYLIGHT
BEGIN:STANDARD
TZOFFSETFROM:+0200
TZOFFSETTO:+0100
TZNAME:CET
DTSTART:20251026T010000
END:STANDARD
BEGIN:DAYLIGHT
TZOFFSETFROM:+0100
TZOFFSETTO:+0200
TZNAME:CEST
DTSTART:20260329T010000
END:DAYLIGHT
BEGIN:STANDARD
TZOFFSETFROM:+0200
TZOFFSETTO:+0100
TZNAME:CET
DTSTART:20261025T010000
END:STANDARD
BEGIN:DAYLIGHT
TZOFFSETFROM:+0100
TZOFFSETTO:+0200
TZNAME:CEST
DTSTART:20270328T010000
END:DAYLIGHT
BEGIN:STANDARD
TZOFFSETFROM:+0200
TZOFFSETTO:+0100
TZNAME:CET
DTSTART:20271031T010000
END:STANDARD
END:VTIMEZONE
BEGIN:VEVENT
DTSTART;VALUE=DATE:20260820
DTEND;VALUE=DATE:20260826
DTSTAMP:20260424T003416
CREATED:20260303T102247Z
LAST-MODIFIED:20260303T102247Z
UID:2641-1787184000-1787702399@www.biebricher-gewerbeverein.de
SUMMARY:BIG-Sommerwochen am Weinstand mit Live Musik - Teil 2
DESCRIPTION:BIG-Sommerwochen Teil 2 \n 
URL:https://www.biebricher-gewerbeverein.de/event/big-sommerwochen-am-weinstand-mit-live-musik-teil-2/
LOCATION:Weinstand am Rheinufer\, Rheingaustraße 143\, Wiesbaden\, Hessen\, 65203
END:VEVENT
BEGIN:VEVENT
DTSTART;TZID=Europe/Berlin:20260825T140000
DTEND;TZID=Europe/Berlin:20260825T170000
DTSTAMP:20260424T003416
CREATED:20260303T102815Z
LAST-MODIFIED:20260303T102957Z
UID:2645-1787666400-1787677200@www.biebricher-gewerbeverein.de
SUMMARY:BIG - Sonderveranstaltung "Wein am Rhein"
DESCRIPTION:BIG – Sonderveranstaltung „Wein am Rhein“ für die Bewohner der Wiesbadener Pflegevereine. \n14:00 Uhr bis 17:00 Uhr \nOffizielle Begrüßung 14:30 Uhr \n  \n 
URL:https://www.biebricher-gewerbeverein.de/event/big-sonderveranstaltung-wein-am-rhein/
LOCATION:Weinstand am Rheinufer\, Rheingaustraße 143\, Wiesbaden\, Hessen\, 65203
END:VEVENT
END:VCALENDAR