BEGIN:VCALENDAR
VERSION:2.0
PRODID:-//Biebricher Gewerbeverein - ECPv6.15.20//NONSGML v1.0//EN
CALSCALE:GREGORIAN
METHOD:PUBLISH
X-ORIGINAL-URL:https://www.biebricher-gewerbeverein.de
X-WR-CALDESC:Veranstaltungen für Biebricher Gewerbeverein
REFRESH-INTERVAL;VALUE=DURATION:PT1H
X-Robots-Tag:noindex
X-PUBLISHED-TTL:PT1H
BEGIN:VTIMEZONE
TZID:Europe/Berlin
BEGIN:DAYLIGHT
TZOFFSETFROM:+0100
TZOFFSETTO:+0200
TZNAME:CEST
DTSTART:20210328T010000
END:DAYLIGHT
BEGIN:STANDARD
TZOFFSETFROM:+0200
TZOFFSETTO:+0100
TZNAME:CET
DTSTART:20211031T010000
END:STANDARD
BEGIN:DAYLIGHT
TZOFFSETFROM:+0100
TZOFFSETTO:+0200
TZNAME:CEST
DTSTART:20220327T010000
END:DAYLIGHT
BEGIN:STANDARD
TZOFFSETFROM:+0200
TZOFFSETTO:+0100
TZNAME:CET
DTSTART:20221030T010000
END:STANDARD
BEGIN:DAYLIGHT
TZOFFSETFROM:+0100
TZOFFSETTO:+0200
TZNAME:CEST
DTSTART:20230326T010000
END:DAYLIGHT
BEGIN:STANDARD
TZOFFSETFROM:+0200
TZOFFSETTO:+0100
TZNAME:CET
DTSTART:20231029T010000
END:STANDARD
END:VTIMEZONE
BEGIN:VEVENT
DTSTART;VALUE=DATE:20220428
DTEND;VALUE=DATE:20221018
DTSTAMP:20260423T212256
CREATED:20220418T185846Z
LAST-MODIFIED:20220418T185846Z
UID:560-1651104000-1666051199@www.biebricher-gewerbeverein.de
SUMMARY:Weinstand
DESCRIPTION:Unter Einhaltung der gesetzlichen Vorschriften und Abstandsregelungen schenken die Winzer der BIG Donnerstags bis Montags von 17-22 Uhr aus\, Sonn-und Feiertags öffnet der Stand ab 14 Uhr.
URL:https://www.biebricher-gewerbeverein.de/event/weinstand/
LOCATION:Weinstand am Rheinufer\, Rheingaustraße 143\, Wiesbaden\, Hessen\, 65203
END:VEVENT
BEGIN:VEVENT
DTSTART;VALUE=DATE:20221016
DTEND;VALUE=DATE:20221017
DTSTAMP:20260423T212256
CREATED:20220817T085845Z
LAST-MODIFIED:20221012T144516Z
UID:1517-1665878400-1665964799@www.biebricher-gewerbeverein.de
SUMMARY:Verkaufsoffener Sonntag
DESCRIPTION:
URL:https://www.biebricher-gewerbeverein.de/event/verkaufsoffener-sonntag/
LOCATION:Stadtteil Biebrich\, Rathausstraße 76\, Wiesbaden\, Hessen\, 65203\, Deutschland
ATTACH;FMTTYPE=image/jpeg:https://www.biebricher-gewerbeverein.de/wp-content/uploads/2022/08/40070519_1-1-e1665585849972.jpg
END:VEVENT
BEGIN:VEVENT
DTSTART;VALUE=DATE:20221017
DTEND;VALUE=DATE:20221018
DTSTAMP:20260423T212256
CREATED:20220418T185743Z
LAST-MODIFIED:20220817T103538Z
UID:558-1665964800-1666051199@www.biebricher-gewerbeverein.de
SUMMARY:Austrinken Weinstand
DESCRIPTION:Das sind doch mal feine Neuigkeiten\, oder? Das weit über Biebrich hinaus bekannte und beliebte Austrinken findet statt! \nUnd zwar fast wie immer: Am Montag\, 17.10.2022 und natürlich am Weinstand der BIG e.V. an unserem schönen Biebricher Rheinufer lassen wir es krachen.
URL:https://www.biebricher-gewerbeverein.de/event/austrinken-weinstand/
LOCATION:Weinstand am Rheinufer\, Rheingaustraße 143\, Wiesbaden\, Hessen\, 65203
END:VEVENT
END:VCALENDAR